BEGIN:VCALENDAR
VERSION:2.0
PRODID:-//Regenbogenschule Hennigsdorf - ECPv6.15.20//NONSGML v1.0//EN
CALSCALE:GREGORIAN
METHOD:PUBLISH
X-ORIGINAL-URL:https://regenbogenschule.net
X-WR-CALDESC:Veranstaltungen für Regenbogenschule Hennigsdorf
REFRESH-INTERVAL;VALUE=DURATION:PT1H
X-Robots-Tag:noindex
X-PUBLISHED-TTL:PT1H
BEGIN:VTIMEZONE
TZID:Europe/Berlin
BEGIN:DAYLIGHT
TZOFFSETFROM:+0100
TZOFFSETTO:+0200
TZNAME:CEST
DTSTART:20230326T010000
END:DAYLIGHT
BEGIN:STANDARD
TZOFFSETFROM:+0200
TZOFFSETTO:+0100
TZNAME:CET
DTSTART:20231029T010000
END:STANDARD
BEGIN:DAYLIGHT
TZOFFSETFROM:+0100
TZOFFSETTO:+0200
TZNAME:CEST
DTSTART:20240331T010000
END:DAYLIGHT
BEGIN:STANDARD
TZOFFSETFROM:+0200
TZOFFSETTO:+0100
TZNAME:CET
DTSTART:20241027T010000
END:STANDARD
BEGIN:DAYLIGHT
TZOFFSETFROM:+0100
TZOFFSETTO:+0200
TZNAME:CEST
DTSTART:20250330T010000
END:DAYLIGHT
BEGIN:STANDARD
TZOFFSETFROM:+0200
TZOFFSETTO:+0100
TZNAME:CET
DTSTART:20251026T010000
END:STANDARD
END:VTIMEZONE
BEGIN:VEVENT
DTSTART;VALUE=DATE:20240902
DTEND;VALUE=DATE:20240903
DTSTAMP:20260421T114557
CREATED:20240901T133643Z
LAST-MODIFIED:20240901T133643Z
UID:11928-1725235200-1725321599@regenbogenschule.net
SUMMARY:1. Schultag (Projekttag)
DESCRIPTION:
URL:https://regenbogenschule.net/termin/1-schultag-projekttag-2/
END:VEVENT
BEGIN:VEVENT
DTSTART;VALUE=DATE:20240909
DTEND;VALUE=DATE:20240910
DTSTAMP:20260421T114557
CREATED:20240901T133643Z
LAST-MODIFIED:20240901T133643Z
UID:11929-1725840000-1725926399@regenbogenschule.net
SUMMARY:Start der Therapien
DESCRIPTION:
URL:https://regenbogenschule.net/termin/start-der-therapien/
END:VEVENT
BEGIN:VEVENT
DTSTART;TZID=Europe/Berlin:20240910T123000
DTEND;TZID=Europe/Berlin:20240910T140000
DTSTAMP:20260421T114557
CREATED:20240901T133644Z
LAST-MODIFIED:20240901T133644Z
UID:11930-1725971400-1725976800@regenbogenschule.net
SUMMARY:Start Schwimmunterricht
DESCRIPTION:Wasserzeit
URL:https://regenbogenschule.net/termin/start-schwimmunterricht-3/
END:VEVENT
BEGIN:VEVENT
DTSTART;TZID=Europe/Berlin:20240913T103000
DTEND;TZID=Europe/Berlin:20240913T113000
DTSTAMP:20260421T114557
CREATED:20240901T133644Z
LAST-MODIFIED:20240901T133644Z
UID:11931-1726223400-1726227000@regenbogenschule.net
SUMMARY:Einschulung
DESCRIPTION:
URL:https://regenbogenschule.net/termin/einschulung-3/
END:VEVENT
BEGIN:VEVENT
DTSTART;VALUE=DATE:20240916
DTEND;VALUE=DATE:20240917
DTSTAMP:20260421T114557
CREATED:20240901T133646Z
LAST-MODIFIED:20240901T133646Z
UID:11933-1726444800-1726531199@regenbogenschule.net
SUMMARY:Start Sportunterricht
DESCRIPTION:
URL:https://regenbogenschule.net/termin/start-sportunterricht-3/
END:VEVENT
BEGIN:VEVENT
DTSTART;TZID=Europe/Berlin:20240916T113000
DTEND;TZID=Europe/Berlin:20240916T123000
DTSTAMP:20260421T114557
CREATED:20240901T133644Z
LAST-MODIFIED:20240901T133644Z
UID:11932-1726486200-1726489800@regenbogenschule.net
SUMMARY:Start der Schülerband-AG
DESCRIPTION:
URL:https://regenbogenschule.net/termin/start-der-schuelerband-ag/
END:VEVENT
BEGIN:VEVENT
DTSTART;VALUE=DATE:20240917
DTEND;VALUE=DATE:20240918
DTSTAMP:20260421T114557
CREATED:20240901T133646Z
LAST-MODIFIED:20240901T133646Z
UID:11936-1726531200-1726617599@regenbogenschule.net
SUMMARY:Start der IW`s
DESCRIPTION:
URL:https://regenbogenschule.net/termin/start-der-iws-2/
END:VEVENT
BEGIN:VEVENT
DTSTART;TZID=Europe/Berlin:20240917T120000
DTEND;TZID=Europe/Berlin:20240917T141500
DTSTAMP:20260421T114557
CREATED:20240901T133646Z
LAST-MODIFIED:20240901T133646Z
UID:11934-1726574400-1726582500@regenbogenschule.net
SUMMARY:Start Reittherapie
DESCRIPTION:
URL:https://regenbogenschule.net/termin/start-reittherapie-3/
END:VEVENT
BEGIN:VEVENT
DTSTART;TZID=Europe/Berlin:20240917T124500
DTEND;TZID=Europe/Berlin:20240917T143000
DTSTAMP:20260421T114557
CREATED:20240901T133646Z
LAST-MODIFIED:20240901T133646Z
UID:11935-1726577100-1726583400@regenbogenschule.net
SUMMARY:Start Kegel-AG
DESCRIPTION:
URL:https://regenbogenschule.net/termin/start-kegel-ag-2/
END:VEVENT
BEGIN:VEVENT
DTSTART;TZID=Europe/Berlin:20240920T103000
DTEND;TZID=Europe/Berlin:20240920T110000
DTSTAMP:20260421T114558
CREATED:20240901T133647Z
LAST-MODIFIED:20240901T133647Z
UID:11937-1726828200-1726830000@regenbogenschule.net
SUMMARY:Start Chor
DESCRIPTION:
URL:https://regenbogenschule.net/termin/start-chor-3/
END:VEVENT
BEGIN:VEVENT
DTSTART;TZID=Europe/Berlin:20240924T081500
DTEND;TZID=Europe/Berlin:20240924T120000
DTSTAMP:20260421T114558
CREATED:20240901T133701Z
LAST-MODIFIED:20240901T133701Z
UID:11938-1727165700-1727179200@regenbogenschule.net
SUMMARY:Kuchenbasar im Rathaus
DESCRIPTION:jede Klasse bäckt zwei Kuchen
URL:https://regenbogenschule.net/termin/kuchenbasar-im-rathaus/
END:VEVENT
BEGIN:VEVENT
DTSTART;TZID=Europe/Berlin:20240925T151500
DTEND;TZID=Europe/Berlin:20240925T172500
DTSTAMP:20260421T114558
CREATED:20240901T133702Z
LAST-MODIFIED:20240901T133702Z
UID:11939-1727277300-1727285100@regenbogenschule.net
SUMMARY:Elternversammlung
DESCRIPTION:
URL:https://regenbogenschule.net/termin/elternversammlung/
END:VEVENT
BEGIN:VEVENT
DTSTART;TZID=Europe/Berlin:20240925T173000
DTEND;TZID=Europe/Berlin:20240925T183000
DTSTAMP:20260421T114558
CREATED:20240901T133702Z
LAST-MODIFIED:20240901T133702Z
UID:11940-1727285400-1727289000@regenbogenschule.net
SUMMARY:Elternkonferenz
DESCRIPTION:Wahl aller Gremien
URL:https://regenbogenschule.net/termin/elternkonferenz-2/
END:VEVENT
BEGIN:VEVENT
DTSTART;TZID=Europe/Berlin:20240926T100500
DTEND;TZID=Europe/Berlin:20240926T104500
DTSTAMP:20260421T114558
CREATED:20240901T133702Z
LAST-MODIFIED:20240901T133702Z
UID:11941-1727345100-1727347500@regenbogenschule.net
SUMMARY:1. Sitzung der Klassensprecher*Innen
DESCRIPTION:
URL:https://regenbogenschule.net/termin/1-sitzung-der-klassensprecherinnen-3/
END:VEVENT
BEGIN:VEVENT
DTSTART;TZID=Europe/Berlin:20240926T133000
DTEND;TZID=Europe/Berlin:20240926T144500
DTSTAMP:20260421T114558
CREATED:20240901T133703Z
LAST-MODIFIED:20240901T133703Z
UID:11942-1727357400-1727361900@regenbogenschule.net
SUMMARY:Elterncafe
DESCRIPTION:
URL:https://regenbogenschule.net/termin/elterncafe-21/
END:VEVENT
END:VCALENDAR