BEGIN:VCALENDAR
VERSION:2.0
PRODID:-//Regenbogenschule Hennigsdorf - ECPv6.15.20//NONSGML v1.0//EN
CALSCALE:GREGORIAN
METHOD:PUBLISH
X-WR-CALNAME:Regenbogenschule Hennigsdorf
X-ORIGINAL-URL:https://regenbogenschule.net
X-WR-CALDESC:Veranstaltungen für Regenbogenschule Hennigsdorf
REFRESH-INTERVAL;VALUE=DURATION:PT1H
X-Robots-Tag:noindex
X-PUBLISHED-TTL:PT1H
BEGIN:VTIMEZONE
TZID:Europe/Berlin
BEGIN:DAYLIGHT
TZOFFSETFROM:+0100
TZOFFSETTO:+0200
TZNAME:CEST
DTSTART:20250330T010000
END:DAYLIGHT
BEGIN:STANDARD
TZOFFSETFROM:+0200
TZOFFSETTO:+0100
TZNAME:CET
DTSTART:20251026T010000
END:STANDARD
BEGIN:DAYLIGHT
TZOFFSETFROM:+0100
TZOFFSETTO:+0200
TZNAME:CEST
DTSTART:20260329T010000
END:DAYLIGHT
BEGIN:STANDARD
TZOFFSETFROM:+0200
TZOFFSETTO:+0100
TZNAME:CET
DTSTART:20261025T010000
END:STANDARD
BEGIN:DAYLIGHT
TZOFFSETFROM:+0100
TZOFFSETTO:+0200
TZNAME:CEST
DTSTART:20270328T010000
END:DAYLIGHT
BEGIN:STANDARD
TZOFFSETFROM:+0200
TZOFFSETTO:+0100
TZNAME:CET
DTSTART:20271031T010000
END:STANDARD
END:VTIMEZONE
BEGIN:VEVENT
DTSTART;VALUE=DATE:20260422
DTEND;VALUE=DATE:20260423
DTSTAMP:20260419T170348
CREATED:20251129T080536Z
LAST-MODIFIED:20251129T080536Z
UID:12418-1776816000-1776902399@regenbogenschule.net
SUMMARY:Crosslauf
DESCRIPTION:
URL:https://regenbogenschule.net/termin/crosslauf-2/
CATEGORIES:Olympiade
END:VEVENT
BEGIN:VEVENT
DTSTART;TZID=Europe/Berlin:20260501T000000
DTEND;TZID=Europe/Berlin:20260501T000000
DTSTAMP:20260419T170348
CREATED:20251129T080536Z
LAST-MODIFIED:20251129T080536Z
UID:12419-1777593600-1777593600@regenbogenschule.net
SUMMARY:Tag der Arbeit
DESCRIPTION:
URL:https://regenbogenschule.net/termin/tag-der-arbeit-6/
CATEGORIES:Feiertag
END:VEVENT
BEGIN:VEVENT
DTSTART;VALUE=DATE:20260506
DTEND;VALUE=DATE:20260507
DTSTAMP:20260419T170348
CREATED:20251129T080549Z
LAST-MODIFIED:20251129T080549Z
UID:12421-1778025600-1778111999@regenbogenschule.net
SUMMARY:6. Lehrerkonferenz
DESCRIPTION:
URL:https://regenbogenschule.net/termin/6-lehrerkonferenz-4/
CATEGORIES:Konferenz
END:VEVENT
BEGIN:VEVENT
DTSTART;TZID=Europe/Berlin:20260506T080000
DTEND;TZID=Europe/Berlin:20260506T150000
DTSTAMP:20260419T170348
CREATED:20251129T080549Z
LAST-MODIFIED:20251129T080549Z
UID:12420-1778054400-1778079600@regenbogenschule.net
SUMMARY:CrossFit-Turneir
DESCRIPTION:
URL:https://regenbogenschule.net/termin/crossfit-turneir/
CATEGORIES:Olympiade
END:VEVENT
BEGIN:VEVENT
DTSTART;VALUE=DATE:20260514
DTEND;VALUE=DATE:20260515
DTSTAMP:20260419T170348
CREATED:20251129T080550Z
LAST-MODIFIED:20251129T080550Z
UID:12422-1778716800-1778803199@regenbogenschule.net
SUMMARY:Christi Himmelfahrt
DESCRIPTION:
URL:https://regenbogenschule.net/termin/christi-himmelfahrt-4/
CATEGORIES:Feiertag
END:VEVENT
BEGIN:VEVENT
DTSTART;VALUE=DATE:20260515
DTEND;VALUE=DATE:20260516
DTSTAMP:20260419T170348
CREATED:20251129T080550Z
LAST-MODIFIED:20251129T080550Z
UID:12423-1778803200-1778889599@regenbogenschule.net
SUMMARY:Variabler Ferientag
DESCRIPTION:Variabler Ferientag des Schuljahres 2025/26 entsprechend VVSchulB
URL:https://regenbogenschule.net/termin/variabler-ferientag-7/
CATEGORIES:Variabler Ferientag
END:VEVENT
BEGIN:VEVENT
DTSTART;TZID=Europe/Berlin:20260520T090000
DTEND;TZID=Europe/Berlin:20260520T130000
DTSTAMP:20260419T170348
CREATED:20251129T080550Z
LAST-MODIFIED:20251129T080550Z
UID:12424-1779267600-1779282000@regenbogenschule.net
SUMMARY:PUR Sportfest ?
DESCRIPTION:
URL:https://regenbogenschule.net/termin/pur-sportfest-4/
CATEGORIES:Sonstige
END:VEVENT
BEGIN:VEVENT
DTSTART;VALUE=DATE:20260521
DTEND;VALUE=DATE:20260522
DTSTAMP:20260419T170348
CREATED:20251129T080605Z
LAST-MODIFIED:20251129T080605Z
UID:12425-1779321600-1779407999@regenbogenschule.net
SUMMARY:5. Sitzung Der Klassensprecher*Innen
DESCRIPTION:
URL:https://regenbogenschule.net/termin/5-sitzung-der-klassensprecherinnen-4/
CATEGORIES:Konferenz
END:VEVENT
BEGIN:VEVENT
DTSTART;TZID=Europe/Berlin:20260524T000000
DTEND;TZID=Europe/Berlin:20260524T000000
DTSTAMP:20260419T170348
CREATED:20251129T080606Z
LAST-MODIFIED:20251129T080606Z
UID:12426-1779580800-1779580800@regenbogenschule.net
SUMMARY:Pfingstsonntag
DESCRIPTION:
URL:https://regenbogenschule.net/termin/pfingstsonntag-4/
CATEGORIES:Feiertag
END:VEVENT
BEGIN:VEVENT
DTSTART;TZID=Europe/Berlin:20260525T000000
DTEND;TZID=Europe/Berlin:20260525T000000
DTSTAMP:20260419T170348
CREATED:20251129T080606Z
LAST-MODIFIED:20251129T080606Z
UID:12427-1779667200-1779667200@regenbogenschule.net
SUMMARY:Pfingstmontag
DESCRIPTION:
URL:https://regenbogenschule.net/termin/pfingstmontag-4/
CATEGORIES:Feiertag
END:VEVENT
BEGIN:VEVENT
DTSTART;TZID=Europe/Berlin:20260526T000000
DTEND;TZID=Europe/Berlin:20260526T000000
DTSTAMP:20260419T170348
CREATED:20251129T080607Z
LAST-MODIFIED:20251129T080607Z
UID:12428-1779753600-1779753600@regenbogenschule.net
SUMMARY:Pfingstferien
DESCRIPTION:Pfingstferien des Schuljahres 2025/ 2026
URL:https://regenbogenschule.net/termin/pfingstferien/
CATEGORIES:Ferien
END:VEVENT
BEGIN:VEVENT
DTSTART;VALUE=DATE:20260527
DTEND;VALUE=DATE:20260528
DTSTAMP:20260419T170348
CREATED:20251129T080607Z
LAST-MODIFIED:20251129T080607Z
UID:12429-1779840000-1779926399@regenbogenschule.net
SUMMARY:Elterncafe
DESCRIPTION:
URL:https://regenbogenschule.net/termin/elterncafe-28/
CATEGORIES:Sonstige
END:VEVENT
BEGIN:VEVENT
DTSTART;TZID=Europe/Berlin:20260612T000000
DTEND;TZID=Europe/Berlin:20260612T000000
DTSTAMP:20260419T170348
CREATED:20251129T080620Z
LAST-MODIFIED:20251129T080620Z
UID:12430-1781222400-1781222400@regenbogenschule.net
SUMMARY:Abgabe der Zeugnisse
DESCRIPTION:
URL:https://regenbogenschule.net/termin/abgabe-der-zeugnisse-2/
CATEGORIES:Sonstige
END:VEVENT
BEGIN:VEVENT
DTSTART;TZID=Europe/Berlin:20260617T151500
DTEND;TZID=Europe/Berlin:20260617T171500
DTSTAMP:20260419T170348
CREATED:20251129T080620Z
LAST-MODIFIED:20251129T080620Z
UID:12431-1781709300-1781716500@regenbogenschule.net
SUMMARY:7. Lehrerkonferenz
DESCRIPTION:
URL:https://regenbogenschule.net/termin/7-lehrerkonferenz-4/
CATEGORIES:Konferenz
END:VEVENT
BEGIN:VEVENT
DTSTART;TZID=Europe/Berlin:20260619T100000
DTEND;TZID=Europe/Berlin:20260619T103000
DTSTAMP:20260419T170348
CREATED:20251129T080620Z
LAST-MODIFIED:20251129T080620Z
UID:12432-1781863200-1781865000@regenbogenschule.net
SUMMARY:DB der EFHs
DESCRIPTION:
URL:https://regenbogenschule.net/termin/db-der-efhs-3/
CATEGORIES:Dienstberatung
END:VEVENT
BEGIN:VEVENT
DTSTART;TZID=Europe/Berlin:20260624T000000
DTEND;TZID=Europe/Berlin:20260624T000000
DTSTAMP:20260419T170348
CREATED:20251129T080621Z
LAST-MODIFIED:20251129T080621Z
UID:12434-1782259200-1782259200@regenbogenschule.net
SUMMARY:Musik ist Klasse
DESCRIPTION:
URL:https://regenbogenschule.net/termin/musik-ist-klasse/
CATEGORIES:Sonstige
END:VEVENT
BEGIN:VEVENT
DTSTART;TZID=Europe/Berlin:20260624T133000
DTEND;TZID=Europe/Berlin:20260624T144500
DTSTAMP:20260419T170348
CREATED:20251129T080621Z
LAST-MODIFIED:20251129T080621Z
UID:12433-1782307800-1782312300@regenbogenschule.net
SUMMARY:Elterncafe
DESCRIPTION:
URL:https://regenbogenschule.net/termin/elterncafe-29/
CATEGORIES:Sonstige
END:VEVENT
BEGIN:VEVENT
DTSTART;VALUE=DATE:20260625
DTEND;VALUE=DATE:20260626
DTSTAMP:20260419T170348
CREATED:20251129T080635Z
LAST-MODIFIED:20251129T080635Z
UID:12436-1782345600-1782431999@regenbogenschule.net
SUMMARY:Musik ist Klasse
DESCRIPTION:
URL:https://regenbogenschule.net/termin/musik-ist-klasse-2/
CATEGORIES:Sonstige
END:VEVENT
BEGIN:VEVENT
DTSTART;TZID=Europe/Berlin:20260625T081500
DTEND;TZID=Europe/Berlin:20260625T084500
DTSTAMP:20260419T170348
CREATED:20251129T080634Z
LAST-MODIFIED:20251129T080634Z
UID:12435-1782375300-1782377100@regenbogenschule.net
SUMMARY:6. Sitzung Der Klassensprecher*Innen
DESCRIPTION:
URL:https://regenbogenschule.net/termin/6-sitzung-der-klassensprecherinnen-2/
CATEGORIES:Konferenz
END:VEVENT
BEGIN:VEVENT
DTSTART;VALUE=DATE:20260630
DTEND;VALUE=DATE:20260701
DTSTAMP:20260419T170348
CREATED:20251129T080635Z
LAST-MODIFIED:20251129T080635Z
UID:12437-1782777600-1782863999@regenbogenschule.net
SUMMARY:3. Schulkonferenz
DESCRIPTION:
URL:https://regenbogenschule.net/termin/3-schulkonferenz-4/
CATEGORIES:Konferenz
END:VEVENT
BEGIN:VEVENT
DTSTART;VALUE=DATE:20260701
DTEND;VALUE=DATE:20260702
DTSTAMP:20260419T170348
CREATED:20251129T080635Z
LAST-MODIFIED:20251129T080635Z
UID:12438-1782864000-1782950399@regenbogenschule.net
SUMMARY:1. Elternversammlung Für Neue Schüler
DESCRIPTION:
URL:https://regenbogenschule.net/termin/1-elternversammlung-fuer-neue-schueler/
CATEGORIES:Elternsprechtag
END:VEVENT
BEGIN:VEVENT
DTSTART;TZID=Europe/Berlin:20260703T100000
DTEND;TZID=Europe/Berlin:20260703T110000
DTSTAMP:20260419T170348
CREATED:20251129T080635Z
LAST-MODIFIED:20251129T080635Z
UID:12439-1783072800-1783076400@regenbogenschule.net
SUMMARY:Verabschiedung Der Schulabgänger*Innen
DESCRIPTION:
URL:https://regenbogenschule.net/termin/verabschiedung-der-schulabgaengerinnen-4/
CATEGORIES:Sonstige
END:VEVENT
BEGIN:VEVENT
DTSTART;TZID=Europe/Berlin:20260703T150000
DTEND;TZID=Europe/Berlin:20260703T190000
DTSTAMP:20260419T170348
CREATED:20251129T080649Z
LAST-MODIFIED:20251129T080649Z
UID:12440-1783090800-1783105200@regenbogenschule.net
SUMMARY:Zeugnisausgabe Schulabgänger*Innen
DESCRIPTION:
URL:https://regenbogenschule.net/termin/zeugnisausgabe-schulabgaengerinnen-2/
CATEGORIES:Sonstige
END:VEVENT
BEGIN:VEVENT
DTSTART;TZID=Europe/Berlin:20260703T154500
DTEND;TZID=Europe/Berlin:20260703T190000
DTSTAMP:20260419T170348
CREATED:20251129T080650Z
LAST-MODIFIED:20251129T080650Z
UID:12441-1783093500-1783105200@regenbogenschule.net
SUMMARY:Schülerabschlussball
DESCRIPTION:
URL:https://regenbogenschule.net/termin/schuelerabschlussball/
CATEGORIES:Sonstige
END:VEVENT
BEGIN:VEVENT
DTSTART;TZID=Europe/Berlin:20260706T000000
DTEND;TZID=Europe/Berlin:20260706T000000
DTSTAMP:20260419T170348
CREATED:20251129T080650Z
LAST-MODIFIED:20251129T080650Z
UID:12442-1783296000-1783296000@regenbogenschule.net
SUMMARY:Gemeinsamer Schulabschluss?
DESCRIPTION:
URL:https://regenbogenschule.net/termin/gemeinsamer-schulabschluss/
CATEGORIES:Sonstige
END:VEVENT
BEGIN:VEVENT
DTSTART;TZID=Europe/Berlin:20260708T081500
DTEND;TZID=Europe/Berlin:20260708T081500
DTSTAMP:20260419T170348
CREATED:20251129T080650Z
LAST-MODIFIED:20251129T080650Z
UID:12443-1783498500-1783498500@regenbogenschule.net
SUMMARY:Abgabe Der Klassenbücher
DESCRIPTION:
URL:https://regenbogenschule.net/termin/abgabe-der-klassenbuecher/
CATEGORIES:Sonstige
END:VEVENT
BEGIN:VEVENT
DTSTART;TZID=Europe/Berlin:20260709T000000
DTEND;TZID=Europe/Berlin:20260822T000000
DTSTAMP:20260419T170348
CREATED:20251129T080705Z
LAST-MODIFIED:20251129T080705Z
UID:12444-1783555200-1787356800@regenbogenschule.net
SUMMARY:Sommerferien
DESCRIPTION:Sommerferien des Schuljahres 2025/ 2026
URL:https://regenbogenschule.net/termin/sommerferien-6/
CATEGORIES:Ferien
END:VEVENT
END:VCALENDAR