BEGIN:VCALENDAR
VERSION:2.0
PRODID:-//Regenbogenschule Hennigsdorf - ECPv6.15.20//NONSGML v1.0//EN
CALSCALE:GREGORIAN
METHOD:PUBLISH
X-WR-CALNAME:Regenbogenschule Hennigsdorf
X-ORIGINAL-URL:https://regenbogenschule.net
X-WR-CALDESC:Veranstaltungen für Regenbogenschule Hennigsdorf
REFRESH-INTERVAL;VALUE=DURATION:PT1H
X-Robots-Tag:noindex
X-PUBLISHED-TTL:PT1H
BEGIN:VTIMEZONE
TZID:Europe/Berlin
BEGIN:DAYLIGHT
TZOFFSETFROM:+0100
TZOFFSETTO:+0200
TZNAME:CEST
DTSTART:20230326T010000
END:DAYLIGHT
BEGIN:STANDARD
TZOFFSETFROM:+0200
TZOFFSETTO:+0100
TZNAME:CET
DTSTART:20231029T010000
END:STANDARD
BEGIN:DAYLIGHT
TZOFFSETFROM:+0100
TZOFFSETTO:+0200
TZNAME:CEST
DTSTART:20240331T010000
END:DAYLIGHT
BEGIN:STANDARD
TZOFFSETFROM:+0200
TZOFFSETTO:+0100
TZNAME:CET
DTSTART:20241027T010000
END:STANDARD
BEGIN:DAYLIGHT
TZOFFSETFROM:+0100
TZOFFSETTO:+0200
TZNAME:CEST
DTSTART:20250330T010000
END:DAYLIGHT
BEGIN:STANDARD
TZOFFSETFROM:+0200
TZOFFSETTO:+0100
TZNAME:CET
DTSTART:20251026T010000
END:STANDARD
END:VTIMEZONE
BEGIN:VEVENT
DTSTART;VALUE=DATE:20240917
DTEND;VALUE=DATE:20240918
DTSTAMP:20260421T130538
CREATED:20240901T133646Z
LAST-MODIFIED:20240901T133646Z
UID:11936-1726531200-1726617599@regenbogenschule.net
SUMMARY:Start der IW`s
DESCRIPTION:
URL:https://regenbogenschule.net/termin/start-der-iws-2/
END:VEVENT
BEGIN:VEVENT
DTSTART;TZID=Europe/Berlin:20240917T120000
DTEND;TZID=Europe/Berlin:20240917T141500
DTSTAMP:20260421T130538
CREATED:20240901T133646Z
LAST-MODIFIED:20240901T133646Z
UID:11934-1726574400-1726582500@regenbogenschule.net
SUMMARY:Start Reittherapie
DESCRIPTION:
URL:https://regenbogenschule.net/termin/start-reittherapie-3/
END:VEVENT
BEGIN:VEVENT
DTSTART;TZID=Europe/Berlin:20240917T124500
DTEND;TZID=Europe/Berlin:20240917T143000
DTSTAMP:20260421T130538
CREATED:20240901T133646Z
LAST-MODIFIED:20240901T133646Z
UID:11935-1726577100-1726583400@regenbogenschule.net
SUMMARY:Start Kegel-AG
DESCRIPTION:
URL:https://regenbogenschule.net/termin/start-kegel-ag-2/
END:VEVENT
END:VCALENDAR